BEGIN:VCALENDAR
VERSION:2.0
PRODID:-//Library Market//iCal Export//EN
BEGIN:VEVENT
SUMMARY:Book Babies
UID:13093
DTSTAMP:20260426T034700Z
DTSTART:20260813T143000Z
DTEND:20260813T150000Z
LOCATION:Whitehall Public Library, 100 Borough Park Dr, Pittsburgh, PA 152
 36, United States
ROOM: Children&#039;s Room
DESCRIPTION:
URL:https://whitehallpl.librarycalendar.com/event/book-babies-13093
END:VEVENT
END:VCALENDAR
