BEGIN:VCALENDAR
VERSION:2.0
PRODID:-//Library Market//iCal Export//EN
BEGIN:VEVENT
SUMMARY:Toddler Time
UID:13056
DTSTAMP:20260426T034700Z
DTSTART:20260527T143000Z
DTEND:20260527T150000Z
LOCATION:Whitehall Public Library, 100 Borough Park Dr, Pittsburgh, PA 152
 36, United States
ROOM: Children&#039;s Room
DESCRIPTION:
URL:https://whitehallpl.librarycalendar.com/event/toddler-time-13056
END:VEVENT
END:VCALENDAR
