BEGIN:VCALENDAR
VERSION:2.0
PRODID:-//Library Market//iCal Export//EN
BEGIN:VEVENT
SUMMARY:Dinosaur Garden
UID:12964
DTSTAMP:20260420T202600Z
DTSTART:20260720T223000Z
DTEND:20260720T233000Z
LOCATION:Brennan Plaza ( Next to Whitehall Pool), 100 Borough Park Dr., Pi
 ttsburgh, PA 15236, United States
ROOM: Brennan Plaza
DESCRIPTION: Join us for dino-stories and hands-on fun as children create
  their own mini gardens complete with dinosaur decorations!Enjoy stories, 
 songs, and a creative activity that brings the prehistoric world to life. 
 Perfect for little explorers with big imaginations! Brennan Plaza next to
  the Whitehall Pool
URL:https://whitehallpl.librarycalendar.com/event/dinosaur-garden-12964
END:VEVENT
END:VCALENDAR
